BEGIN:VCALENDAR
VERSION:2.0
PRODID:-//wp-events-plugin.com//7.2.3.1//EN
TZID:America/New_York
X-WR-TIMEZONE:America/New_York
BEGIN:VEVENT
UID:93@cpnova.com
DTSTART;TZID=America/New_York:20260318T093000
DTEND;TZID=America/New_York:20260325T123000
DTSTAMP:20260123T180128Z
URL:https://cpnova.com/events/cpti-intro-cp-training-2026/
SUMMARY:Introductory Collaborative Practice Training
DESCRIPTION:Introductory Interdisciplinary Collaborative Practice Training\
 nPresented by the Collaborative Practice Training Institute\nWednesday\, M
 arch 18\, 2026 9:30 AM - 12:30 PM (ET)\nThursday\, March 19\, 2026 9:30 AM
  - 12:30 PM (ET)\n&amp\;\nMonday\, March 23\, 2026 9:30 AM - 12:30 PM (ET)
 \nTuesday\, March 24\, 2026 9:30 AM - 12:30 PM (ET)\nWednesday\, March 25\
 , 2026 9:30 AM - 12:30 PM (ET)\nLive\, Online Training\nAll five days requ
 ired. Recordings will not be made.\n\nREGISTER HERE: https://bit.ly/intro-
 cp-mar-2026\nThis Team Training course is open to Attorneys\, Financial Pr
 ofessionals\, and Mental Health Professionals. It meets the training stand
 ards established by the International Academy of Collaborative Professiona
 ls\, and you will be prepared to begin practicing in this model. For those
  already Collaboratively trained\, it will develop and enhance your skills
  as a Collaborative divorce professional and allow you to grow an effectiv
 e Collaborative practice. This training is designed to improve the skills 
 of practicing Collaborative professionals while building a thorough founda
 tion for professionals new to the model. While the objective of this train
 ing is to assist professionals in developing their skills as Collaborative
  practitioners\, you will be able to use the tools provided in many other 
 professional settings.\n\nFor more information\, please see the Registrati
 on site: https://bit.ly/intro-cp-mar-2026\n\nFor those with questions\, pl
 ease contact the CPTI Administrator at CPTI.office@gmail.com.
CATEGORIES:Events Professional,Events Public
LOCATION:https://bit.ly/intro-cp-mar-2026
END:VEVENT
BEGIN:VTIMEZONE
TZID:America/New_York
X-LIC-LOCATION:America/New_York
BEGIN:DAYLIGHT
DTSTART:20260308T030000
TZOFFSETFROM:-0500
TZOFFSETTO:-0400
TZNAME:EDT
END:DAYLIGHT
END:VTIMEZONE
END:VCALENDAR