BEGIN:VCALENDAR
VERSION:2.0
PRODID:-//wp-events-plugin.com//7.2.3.1//EN
TZID:America/New_York
X-WR-TIMEZONE:America/New_York
BEGIN:VEVENT
UID:100@cpnova.com
DTSTART;TZID=America/New_York:20260421T174500
DTEND;TZID=America/New_York:20260421T193000
DTSTAMP:20260224T192158Z
URL:https://cpnova.com/events/cpv-member-meeting-april-2026/
SUMMARY:CPV Member Meeting - April 2026
DESCRIPTION:CPV Membership Meeting Presentation\nTopic: Terminating Collabo
 rative Cases Well\nPresented by: Natalie Goldberg\, LCSW and Lynn Fletche
 r\, Esq.\nTuesday\, April 21\, 2026\nNEW! 5:45 PM – 6:00 PM – Meet and
  Greet\n6:00 PM - 7:30 PM\nStay tuned for more information about this Coll
 aborative Practice educational session for professionals! Guests are welco
 me!\n\n\n\n\nPlease note\, CPV has moved to virtual Member Meetings. Pleas
 e contact the CPV Administrator (admin@cpnova.com) with any questions or i
 f you have interest in attending.\n\n&nbsp\;\n\nRemaining Meetings for 202
 6\nTuesday\, May 19\, 2026 - Zoom\nThursday\, June 4\, 2026 – Summer Soc
 ial – In-Person\, No Board Meeting\nSummer Break. CPV will pause for a s
 ummer break.\nSeptember 2026\nOctober 2026\nNovember 2026\nDecember 2026 -
  Holiday Social - In-Person\nDecember 2026 - Board Meeting\, No Member Mee
 ting this month.
CATEGORIES:Events Professional,Events Public
END:VEVENT
BEGIN:VTIMEZONE
TZID:America/New_York
X-LIC-LOCATION:America/New_York
BEGIN:DAYLIGHT
DTSTART:20260308T030000
TZOFFSETFROM:-0500
TZOFFSETTO:-0400
TZNAME:EDT
END:DAYLIGHT
END:VTIMEZONE
END:VCALENDAR