BEGIN:VCALENDAR
VERSION:2.0
PRODID:-//wp-events-plugin.com//7.2.3.1//EN
TZID:America/New_York
X-WR-TIMEZONE:America/New_York
BEGIN:VEVENT
UID:102@cpnova.com
DTSTART;TZID=America/New_York:20260303T180000
DTEND;TZID=America/New_York:20260303T200000
DTSTAMP:20260224T192504Z
URL:https://cpnova.com/events/cpv-member-meeting-march-2026/
SUMMARY:CPV Member Meeting - March 2026
DESCRIPTION:CPV MONTHLY MEMBER MEETING\nMortgage Rates are HIGHER -\nWhat A
 re the Considerations and Options for Our Clients?\nPresented by: Jamie Bl
 um\, CPA\, CDFA®\, Margie Hofberg (Mortgage Broker)\, and Sara Schuler
 \, Esq.\nTuesday\, March 3\, 2026\n6:00PM - 8:00 PM\n*Meet and greet from 
 6:00PM - 6:30 PM\n*Presentation and Dinner from 6:30PM - 8:00PM\nOne of th
 e most common topics for divorcing couples is what to do with the marital 
 home. Now that interest rates are higher than they have been\, we will tal
 k about considerations and options for your clients to help them navigate 
 mortgage options along with financial and legal considerations.\nThe Itali
 an Oven\n6852 Old Dominion Dr\, McLean\, VA 22101\n&nbsp\;\n\nRemaining Me
 etings for 2026\nTuesday\, April 21\, 2026 - Zoom\nTuesday\, May 19\, 2026
  - Zoom\nThursday\, June 4\, 2026 - In person Social. No Member Meeting th
 is month.\n\nSummer Break. CPV will pause for a summer break.\n\nSeptember
  2026\nOctober 2026\nNovember 2026\nDecember 2026 - Holiday Social - In-Pe
 rson\nDecember 2026 - Board Meeting\, No Member Meeting this month.\n\n&nb
 sp\;
ATTACH;FMTTYPE=image/jpeg:https://i0.wp.com/cpnova.com/wp-content/uploads/
 2025/02/the-italian-oven-pic.webp?fit=2120%2C1414&ssl=1
CATEGORIES:Events Professional,Events Public
LOCATION:The Italian Oven\, 6852 Old Dominion Dr\, McLean\, VA\, 22101\, Un
 ited States
X-APPLE-STRUCTURED-LOCATION;VALUE=URI;X-ADDRESS=6852 Old Dominion Dr\, McLe
 an\, VA\, 22101\, United States;X-APPLE-RADIUS=100;X-TITLE=The Italian Ove
 n:geo:0,0
END:VEVENT
BEGIN:VTIMEZONE
TZID:America/New_York
X-LIC-LOCATION:America/New_York
BEGIN:STANDARD
DTSTART:20251102T010000
TZOFFSETFROM:-0400
TZOFFSETTO:-0500
TZNAME:EST
END:STANDARD
END:VTIMEZONE
END:VCALENDAR