BEGIN:VCALENDAR
VERSION:2.0
PRODID:-//wp-events-plugin.com//7.2.3.1//EN
TZID:America/New_York
X-WR-TIMEZONE:America/New_York
BEGIN:VEVENT
UID:101@cpnova.com
DTSTART;TZID=America/New_York:20260519T174500
DTEND;TZID=America/New_York:20260519T193000
DTSTAMP:20260217T173247Z
URL:https://cpnova.com/events/cpv-member-meeting-may-2026/
SUMMARY:CPV Member Meeting - May 2026
DESCRIPTION:CPV Membership Meeting Presentation\nTopic: Coming Soon!\nTuesd
 ay\, May 19\, 2026\nNEW! 5:45 PM – 6:00 PM – Meet and Greet\n6:00 PM -
  7:30 PM\nStay tuned for more information about this Collaborative Practic
 e educational session for professionals. Guests are welcome!\n\n\n\n\nPlea
 se note\, CPV has moved to virtual Member Meetings. Please contact the CPV
  Administrator (admin@cpnova.com) with any questions or if you have intere
 st in attending.\n\n&nbsp\;\n\nRemaining Meetings for 2026\nThursday\, Jun
 e 4\, 2026 – Summer Social – In-Person\, No Board Meeting\n\nSummer Br
 eak - we look forward to seeing you in September!\n\nSeptember 2026 - In p
 erson\nOctober 2026\nNovember 2026\nDecember 2026 - Holiday Social - In-Pe
 rson\nDecember 2026 - Board Meeting\, No Member Meeting this month.
CATEGORIES:Events Professional,Events Public
END:VEVENT
BEGIN:VTIMEZONE
TZID:America/New_York
X-LIC-LOCATION:America/New_York
BEGIN:DAYLIGHT
DTSTART:20260308T030000
TZOFFSETFROM:-0500
TZOFFSETTO:-0400
TZNAME:EDT
END:DAYLIGHT
END:VTIMEZONE
END:VCALENDAR