BEGIN:VCALENDAR
VERSION:2.0
PRODID:-//wp-events-plugin.com//7.2.3.1//EN
TZID:America/New_York
X-WR-TIMEZONE:America/New_York
BEGIN:VEVENT
UID:96@cpnova.com
DTSTART;TZID=America/New_York:20260311T173000
DTEND;TZID=America/New_York:20260311T193000
DTSTAMP:20260211T201149Z
URL:https://cpnova.com/events/divorce-options-program-march-virtual-presen
 tation/
SUMMARY:Divorce Options Program: March VIRTUAL Presentation
DESCRIPTION:Divorce Options TM Workshop\nWednesday\, March 11\, 2026\nRegis
 ter Here: https://bit.ly/mar-dop\nDivorce Options™ of Virginia\, sponsor
 ed by Collaborative Professionals of Virginia (www.cpnova.com)\, is a low-
 cost public education program presented by local experts in separation and
  divorce. Each Meetup Workshop is led by an attorney\, a financial special
 ist\, and a licensed mental health professional. The mission of Divorce Op
 tions™ of Virginia is to educate Virginia individuals and couples about 
 the options they have when deciding how to approach separation and divorce
 . The Workshops cover the legal\, financial\, and emotional aspects of sep
 aration and divorce. Divorce Options™ Workshops are for married or unmar
 ried individuals or couples who are considering separation and/or divorce.
  The Workshops are also for people who are already engaged in the process 
 of separating and/or divorcing. They are for persons in mixed-gender or sa
 me-gender relationships. At least one member of the couple should be a res
 ident of Virginia. You may attend a Divorce Options™ Workshop alone or a
 s a couple.\nAttending a Divorce Options™ Workshop can help you if:\n•
  You or your spouse is unsure about whether to get separated or divorced\;
 \n• You want to know about peaceful alternatives to contested divorce in
  court\; or\n• You want to learn about ways to manage the legal\, financ
 ial\, and emotional aspects of this major life transition.\nAttending a Di
 vorce Options™ Workshop will:\n• Help you make informed decisions abou
 t whether to separate and/or divorce and which process choices will most l
 ikely help you achieve your desired outcomes\, and\n• Help you retain co
 ntrol over key decisions about your family and your future\, with valuable
  information from experienced professionals in law\, finance\, and counsel
 ing.\nWhat to bring:\nPen and notepad (optional). All participants will re
 ceive a detailed 38-page handbook to take home.\n\nImportant to know:\n\n 
 	Registration at EventBrite is required. Register HERE: https://bit.ly/mar
 -dop\n 	Registration will close at 2:00 PM the day of the event.\n 	Please
  contact the DOP (tm) Administrator at DivorceOptions@cpnova.com with any 
 questions you may have.\n\n&nbsp\;\n\nCPNV thanks Collaborative Practice C
 alifornia for making the Divorce Options™ program available in Virginia.
 \n-\nRemaining Divorce Options Program (tm) Events in 2026\n\n\n\n\nWednes
 day\, April 8\, 2026 - Registration: https://bit.ly/apr-dop\n\n\nWednesday
 \, May 13\, 2026 - Registration: https://bit.ly/may-dop\nWednesday\, June 
 10\, 2026\nWednesday\, July 15\, 2026\nAugust - no event\nWednesday\, Sept
 ember 16\, 2026\nWednesday\, October 14\, 2026\nWednesday\, November 4\, 2
 026\nDecember - no event\n\n\n\n&nbsp\;
ATTACH;FMTTYPE=image/jpeg:https://i0.wp.com/cpnova.com/wp-content/uploads/
 2024/01/DOP-logo.jpg?fit=1875%2C894&ssl=1
CATEGORIES:Events Professional,Events Public
LOCATION:https://bit.ly/mar-dop
END:VEVENT
BEGIN:VTIMEZONE
TZID:America/New_York
X-LIC-LOCATION:America/New_York
BEGIN:DAYLIGHT
DTSTART:20260308T030000
TZOFFSETFROM:-0500
TZOFFSETTO:-0400
TZNAME:EDT
END:DAYLIGHT
END:VTIMEZONE
END:VCALENDAR