BEGIN:VCALENDAR
VERSION:2.0
PRODID:-//wp-events-plugin.com//7.2.3.1//EN
TZID:America/New_York
X-WR-TIMEZONE:America/New_York
BEGIN:VEVENT
UID:97@cpnova.com
DTSTART;TZID=America/New_York:20260408T173000
DTEND;TZID=America/New_York:20260408T193000
DTSTAMP:20260408T110329Z
URL:https://cpnova.com/events/dop-2026-april/
SUMMARY:Divorce Options Program: April VIRTUAL Presentation
DESCRIPTION:**** CANCELLED ****\nDivorce Options TM Workshop\nWednesday\, A
 pril 8\, 2026\nRegister Here: Cancelled\nDivorce Options™ of Virginia\, 
 sponsored by Collaborative Professionals of Virginia (www.cpnova.com)\, is
  a low-cost public education program presented by local experts in separat
 ion and divorce. Each Meetup Workshop is led by an attorney\, a financial 
 specialist\, and a licensed mental health professional. The mission of Div
 orce Options™ of Virginia is to educate Virginia individuals and couples
  about the options they have when deciding how to approach separation and 
 divorce. The Workshops cover the legal\, financial\, and emotional aspects
  of separation and divorce. Divorce Options™ Workshops are for married o
 r unmarried individuals or couples who are considering separation and/or d
 ivorce. The Workshops are also for people who are already engaged in the p
 rocess of separating and/or divorcing. They are for persons in mixed-gende
 r or same-gender relationships. At least one member of the couple should b
 e a resident of Virginia. You may attend a Divorce Options™ Workshop alo
 ne or as a couple.\nAttending a Divorce Options™ Workshop can help you i
 f:\n• You or your spouse is unsure about whether to get separated or div
 orced\;\n• You want to know about peaceful alternatives to contested div
 orce in court\; or\n• You want to learn about ways to manage the legal\,
  financial\, and emotional aspects of this major life transition.\nAttendi
 ng a Divorce Options™ Workshop will:\n• Help you make informed decisio
 ns about whether to separate and/or divorce and which process choices will
  most likely help you achieve your desired outcomes\, and\n• Help you re
 tain control over key decisions about your family and your future\, with v
 aluable information from experienced professionals in law\, finance\, and 
 counseling.\nWhat to bring:\nPen and notepad (optional). All participants 
 will receive a detailed 38-page handbook to take home.\n\nImportant to kno
 w:\n\n 	Registration at EventBrite is required. Register here: https://bit
 .ly/apr-dop\n 	Registration will close at 2:00 PM the day of the event.\n 
 	Please contact the DOP (tm) Administrator at DivorceOptions@cpnova.com wi
 th any questions you may have.\n\n&nbsp\;\n\nCPNV thanks Collaborative Pra
 ctice California for making the Divorce Options™ program available in Vi
 rginia.\n-\nRemaining Divorce Options Program (tm) Events in 2026\n\n\n\nW
 ednesday\, May 13\, 2026 - POSTPONED\nWednesday\, June 10\, 2026\nWednesda
 y\, July 15\, 2026\nAugust - no event\nWednesday\, September 16\, 2026\nWe
 dnesday\, October 14\, 2026\nWednesday\, November 4\, 2026\nDecember - no 
 event\n\n\n\n&nbsp\;
ATTACH;FMTTYPE=image/jpeg:https://i0.wp.com/cpnova.com/wp-content/uploads/
 2024/01/DOP-logo.jpg?fit=1875%2C894&ssl=1
CATEGORIES:Events Professional,Events Public
LOCATION:https://bit.ly/apr-dop
END:VEVENT
BEGIN:VTIMEZONE
TZID:America/New_York
X-LIC-LOCATION:America/New_York
BEGIN:DAYLIGHT
DTSTART:20260308T030000
TZOFFSETFROM:-0500
TZOFFSETTO:-0400
TZNAME:EDT
END:DAYLIGHT
END:VTIMEZONE
END:VCALENDAR