BEGIN:VCALENDAR
VERSION:2.0
PRODID:-//wp-events-plugin.com//7.2.3.1//EN
TZID:America/New_York
X-WR-TIMEZONE:America/New_York
BEGIN:VEVENT
UID:98@cpnova.com
DTSTART;TZID=America/New_York:20260513T173000
DTEND;TZID=America/New_York:20260513T193000
DTSTAMP:20260408T110412Z
URL:https://cpnova.com/events/dop-2026-may/
SUMMARY:Divorce Options Program: May VIRTUAL Presentation
DESCRIPTION:**** POSTPONED ****\nDivorce Options TM Workshop\nWednesday\, M
 ay 13\, 2026\nRegister Here: Postponed\nDivorce Options™ of Virginia\, s
 ponsored by Collaborative Professionals of Virginia (www.cpnova.com)\, is 
 a low-cost public education program presented by local experts in separati
 on and divorce. Each Meetup Workshop is led by an attorney\, a financial s
 pecialist\, and a licensed mental health professional. The mission of Divo
 rce Options™ of Virginia is to educate Virginia individuals and couples 
 about the options they have when deciding how to approach separation and d
 ivorce. The Workshops cover the legal\, financial\, and emotional aspects 
 of separation and divorce. Divorce Options™ Workshops are for married or
  unmarried individuals or couples who are considering separation and/or di
 vorce. The Workshops are also for people who are already engaged in the pr
 ocess of separating and/or divorcing. They are for persons in mixed-gender
  or same-gender relationships. At least one member of the couple should be
  a resident of Virginia. You may attend a Divorce Options™ Workshop alon
 e or as a couple.\nAttending a Divorce Options™ Workshop can help you if
 :\n• You or your spouse is unsure about whether to get separated or divo
 rced\;\n• You want to know about peaceful alternatives to contested divo
 rce in court\; or\n• You want to learn about ways to manage the legal\, 
 financial\, and emotional aspects of this major life transition.\nAttendin
 g a Divorce Options™ Workshop will:\n• Help you make informed decision
 s about whether to separate and/or divorce and which process choices will 
 most likely help you achieve your desired outcomes\, and\n• Help you ret
 ain control over key decisions about your family and your future\, with va
 luable information from experienced professionals in law\, finance\, and c
 ounseling.\nWhat to bring:\nPen and notepad (optional). All participants w
 ill receive a detailed 38-page handbook to take home.\n\nImportant to know
 :\n\n 	Registration at EventBrite is required. Register here: https://bit.
 ly/may-dop\n 	Registration will close at 2:00 PM the day of the event.\n 	
 Please contact the DOP (tm) Administrator at DivorceOptions@cpnova.com wit
 h any questions you may have.\n\n&nbsp\;\n\nCPNV thanks Collaborative Prac
 tice California for making the Divorce Options™ program available in Vir
 ginia.\n-\nRemaining Divorce Options Program (tm) Events in 2026\n\n\n\nWe
 dnesday\, June 10\, 2026\nWednesday\, July 15\, 2026\nAugust - no event\nW
 ednesday\, September 16\, 2026\nWednesday\, October 14\, 2026\nWednesday\,
  November 4\, 2026\nDecember - no event\n\n\n\n&nbsp\;
ATTACH;FMTTYPE=image/jpeg:https://i0.wp.com/cpnova.com/wp-content/uploads/
 2024/01/DOP-logo.jpg?fit=1875%2C894&ssl=1
CATEGORIES:Events Professional,Events Public
LOCATION:https://bit.ly/may-dop
END:VEVENT
BEGIN:VTIMEZONE
TZID:America/New_York
X-LIC-LOCATION:America/New_York
BEGIN:DAYLIGHT
DTSTART:20260308T030000
TZOFFSETFROM:-0500
TZOFFSETTO:-0400
TZNAME:EDT
END:DAYLIGHT
END:VTIMEZONE
END:VCALENDAR